BEGIN:VCALENDAR
PRODID:-//AT Content Types//AT Event//EN
VERSION:2.0
METHOD:PUBLISH
BEGIN:VEVENT
DTSTAMP:20260424T222936Z
CREATED:20250826T144839Z
UID:ATEvent-5d6e9ff2fd714819ade3468da2d7f66f
LAST-MODIFIED:20250826T164631Z
SUMMARY:Ymgysylltu rhagarweiniol â’r farchnad: cyfarfod rhithiol
DTSTART:20250916T130000Z
DTEND:20250916T150000Z
DESCRIPTION:Anogir contractwyr posibl i fynychu cyfarfod ar-lein drwy 
 Microsoft Teams i glywed cynnig cyfredol CNC ar gyfer caffael gwasanae
 thau cynaeafu cynhyrchu uniongyrchol mewn marchnad ddeinamig AC i roi 
 adborth ar sut y gallai CNC lunio ei ofynion.\n\nCofrestrwch eich pres
 enoldeb drwy lenwi'r ffurflen ar-lein o dan y Cynnwys Perthnasol isod.
 
CLASS:PUBLIC
END:VEVENT
END:VCALENDAR
