BEGIN:VCALENDAR
PRODID:-//AT Content Types//AT Event//EN
VERSION:2.0
METHOD:PUBLISH
BEGIN:VEVENT
DTSTAMP:20260423T092121Z
CREATED:20260225T165903Z
UID:ATEvent-0eb469d8714241a59be4739a352e9f5f
LAST-MODIFIED:20260302T113517Z
SUMMARY:Sesiwn Galw Heibio: Coedwigaeth
DTSTART:20260326T143000Z
DTEND:20260326T183000Z
DESCRIPTION:Rydym yn cynnal sesiwn galw heibio yng Nghanolfan Willows 
 Troed-y-rhiw\, Stryd y Bont\, Troed-y-rhiw CF48 4DX ar 26 Mawrth 2026.
  Bydd y Cynllunydd Adnoddau Coedwig a staff Gweithrediadau Coedwigaeth
  ar gael i sgwrsio ag unrhyw un am ddyfodol y goedwig yn ardal Cynllun
  Adnoddau Coedwig Gethin,Ystad Allen ac Ynysowen.
LOCATION:Canolfan Willows Troed-y-rhiw\, Stryd y Bont\, Troed-y-rhiw CF48 4DX
CLASS:PUBLIC
END:VEVENT
END:VCALENDAR
