BEGIN:VCALENDAR
PRODID:-//AT Content Types//AT Event//EN
VERSION:2.0
METHOD:PUBLISH
BEGIN:VEVENT
DTSTAMP:20260423T091554Z
CREATED:20260217T131540Z
UID:ATEvent-c12a1134cebe44edb6680a6aca63bd8f
LAST-MODIFIED:20260302T113517Z
SUMMARY:Sesiwn Galw Heibio: Coedwigaeth
DTSTART:20260324T140000Z
DTEND:20260324T173000Z
DESCRIPTION:Rydym yn cynnal sesiwn galw heibio yng Nghanolfan Gymunedo
 l Pennar\, Llyfrgell Aberpennar\, Stryd Rhydychen\, Aberpennar CF45 3H
 D ar 24 Mawrth 2026. Bydd y Cynllunydd Adnoddau Coedwig a staff Gweith
 rediadau Coedwigaeth ar gael i sgwrsio ag unrhyw un am ddyfodol y goed
 wig yn ardal Cynllun Adnoddau Coedwig Gethin,Ystad Allen ac Ynysowen.
LOCATION:Canolfan Gymunedol Pennar\, Llyfrgell Aberpennar\, Stryd Rhydychen\, Aberpennar CF45 3HD
CLASS:PUBLIC
END:VEVENT
END:VCALENDAR
