BEGIN:VCALENDAR
PRODID:-//AT Content Types//AT Event//EN
VERSION:2.0
METHOD:PUBLISH
BEGIN:VEVENT
DTSTAMP:20260423T072559Z
CREATED:20260217T131244Z
UID:ATEvent-eb7e4ba5357a41699a6cc319973121f5
LAST-MODIFIED:20260311T114313Z
SUMMARY:Forestry Drop In Session
DTSTART:20260324T140000Z
DTEND:20260324T173000Z
DESCRIPTION:There will be a drop in session at Cefn Pennar Community H
 ub Mountain Ash Library on the 24th March 2026. The Forest Resource Pl
 anner and Forestry Operational staff will be available to chat to anyo
 ne about the future of the forest in the Gethin\, Allen's Estate & Mer
 thyr Vale FRP area.
LOCATION:Mountain Ash Library\, Oxford Street\, Mountain Ash CF45 3HD
CLASS:PUBLIC
END:VEVENT
END:VCALENDAR
