BEGIN:VCALENDAR
PRODID:-//AT Content Types//AT Event//EN
VERSION:2.0
METHOD:PUBLISH
BEGIN:VEVENT
DTSTAMP:20260423T073010Z
CREATED:20260225T162616Z
UID:ATEvent-113f213df112444d8518a1e685c0913d
LAST-MODIFIED:20260311T114313Z
SUMMARY:Forestry Drop In Session
DTSTART:20260326T143000Z
DTEND:20260326T183000Z
DESCRIPTION:There will be a drop in session at The Willows Centre Troe
 d-y-rhiw on the 26th March 2026. The Forest Resource Planner and Fores
 try Operational staff will be available to chat to anyone about the fu
 ture of the forest in the Gethin\, Allen's Estate & Merthyr Vale FRP a
 rea.
LOCATION:Bridge Street\, Troed-y-rhiw CF48 4DX
CLASS:PUBLIC
END:VEVENT
END:VCALENDAR
