BEGIN:VCALENDAR
PRODID:-//AT Content Types//AT Event//EN
VERSION:2.0
METHOD:PUBLISH
BEGIN:VEVENT
DTSTAMP:20260419T173905Z
CREATED:20201203T141035Z
UID:ATEvent-b67a0da5f9bc4398b53f971416a8a11f
LAST-MODIFIED:20201210T123438Z
SUMMARY:Ammanford Flood Risk Management Scheme Information Event 2
DTSTART:20210112T173000Z
DTEND:20210112T190000Z
DESCRIPTION:If you would like more information on the scheme\, join us
  online for a presentation.\n\nEmail ammanford@naturalresources.wales 
 to request further details.
CLASS:PUBLIC
END:VEVENT
END:VCALENDAR
