BEGIN:VCALENDAR
PRODID:-//AT Content Types//AT Event//EN
VERSION:2.0
METHOD:PUBLISH
BEGIN:VEVENT
DTSTAMP:20260419T174843Z
CREATED:20200909T112233Z
UID:ATEvent-e2f8fa442e0a49fea0585d5e4bde2154
LAST-MODIFIED:20201210T123438Z
SUMMARY:Ammanford Flood Risk Management Scheme Information Event 1
DTSTART:20210108T140000Z
DTEND:20210108T153000Z
DESCRIPTION:If you would like more information on the scheme\, join us
  online for a presentation.\n\nEmail ammanford@naturalresources.wales 
 to request further details.
CLASS:PUBLIC
END:VEVENT
END:VCALENDAR
